BEGIN:VCALENDAR
VERSION:2.0
PRODID:-//Woldwijk - ECPv6.15.20//NONSGML v1.0//EN
CALSCALE:GREGORIAN
METHOD:PUBLISH
X-ORIGINAL-URL:https://woldwijk.nl
X-WR-CALDESC:Evenementen voor Woldwijk
REFRESH-INTERVAL;VALUE=DURATION:PT1H
X-Robots-Tag:noindex
X-PUBLISHED-TTL:PT1H
BEGIN:VTIMEZONE
TZID:Europe/Amsterdam
BEGIN:DAYLIGHT
TZOFFSETFROM:+0100
TZOFFSETTO:+0200
TZNAME:CEST
DTSTART:20220327T010000
END:DAYLIGHT
BEGIN:STANDARD
TZOFFSETFROM:+0200
TZOFFSETTO:+0100
TZNAME:CET
DTSTART:20221030T010000
END:STANDARD
BEGIN:DAYLIGHT
TZOFFSETFROM:+0100
TZOFFSETTO:+0200
TZNAME:CEST
DTSTART:20230326T010000
END:DAYLIGHT
BEGIN:STANDARD
TZOFFSETFROM:+0200
TZOFFSETTO:+0100
TZNAME:CET
DTSTART:20231029T010000
END:STANDARD
BEGIN:DAYLIGHT
TZOFFSETFROM:+0100
TZOFFSETTO:+0200
TZNAME:CEST
DTSTART:20240331T010000
END:DAYLIGHT
BEGIN:STANDARD
TZOFFSETFROM:+0200
TZOFFSETTO:+0100
TZNAME:CET
DTSTART:20241027T010000
END:STANDARD
BEGIN:DAYLIGHT
TZOFFSETFROM:+0100
TZOFFSETTO:+0200
TZNAME:CEST
DTSTART:20250330T010000
END:DAYLIGHT
BEGIN:STANDARD
TZOFFSETFROM:+0200
TZOFFSETTO:+0100
TZNAME:CET
DTSTART:20251026T010000
END:STANDARD
BEGIN:DAYLIGHT
TZOFFSETFROM:+0100
TZOFFSETTO:+0200
TZNAME:CEST
DTSTART:20260329T010000
END:DAYLIGHT
BEGIN:STANDARD
TZOFFSETFROM:+0200
TZOFFSETTO:+0100
TZNAME:CET
DTSTART:20261025T010000
END:STANDARD
END:VTIMEZONE
BEGIN:VEVENT
DTSTART;TZID=Europe/Amsterdam:20250524T140000
DTEND;TZID=Europe/Amsterdam:20250524T160000
DTSTAMP:20260425T211637
CREATED:20250302T203209Z
LAST-MODIFIED:20250509T092946Z
UID:4215-1748095200-1748102400@woldwijk.nl
SUMMARY:Kriebelbeestjes zoeken
DESCRIPTION:We gaan weer kriebelbeestjes zoeken. Linda en haar collega’s gaan met kinderen van de basisschoolleeftijd op zoek naar waterbeestjes. Ben jij niet bang voor een beetje gekriebel\, kom dan naar de boerderij op Woldwijk op zaterdag 24 mei om 14 uur. Geef je wel even op via info@woldwijk.nl. En heb je laarzen? Trek ze aan of neem ze mee!
URL:https://woldwijk.nl/evenement/kriebelbeestjes-zoeken/
LOCATION:Boerderij Dijkshorn/Woldwijk\, Wolddijk 7\, Ten Boer
END:VEVENT
BEGIN:VEVENT
DTSTART;TZID=Europe/Amsterdam:20250524T133000
DTEND;TZID=Europe/Amsterdam:20250524T160000
DTSTAMP:20260425T211637
CREATED:20250304T100947Z
LAST-MODIFIED:20250304T101133Z
UID:4217-1748093400-1748102400@woldwijk.nl
SUMMARY:Handwerkcafé Landjegoed
DESCRIPTION:Op zaterdag 24 mei is er weer een handwerkcafé. In de gezellige huiskamer van Landjegoed ga je lekker aan de slag met je eigen handwerkje. Er is koffie en thee en er is altijd iemand die je kan helpen. Wees welkom. We beginnen om 13.30 uur.
URL:https://woldwijk.nl/evenement/handwerkcafe-landjegoed/
LOCATION:huiskamer Landjegoed
END:VEVENT
BEGIN:VEVENT
DTSTART;TZID=Europe/Amsterdam:20250412T140000
DTEND;TZID=Europe/Amsterdam:20250412T170000
DTSTAMP:20260425T211637
CREATED:20250210T144936Z
LAST-MODIFIED:20250210T145057Z
UID:4203-1744466400-1744477200@woldwijk.nl
SUMMARY:Kledingbeurs
DESCRIPTION:Op zaterdag 12 april van 14:00-17:00 uur ben je welkom om tweedehands kleding te kopen of verkopen. Ditmaal organiseren we één kledingbeurs voor zowel volwassenen als kinderkleding.\nWil je je kleding verkopen? Meld je dan aan via deze link https://forms.gle/GqGAnQC5yDtC31hm8\nOok hebben we dit jaar ruimte voor een aantal ‘eigenwijze makers’!\nHeb jij een bedrijf of hobby waarbij je zelf leuke accessoires maakt? Denk hierbij bijvoorbeeld aan armbandjes\, kleding\, haarspeldjes of kaarsen.\nMeld je dan ook aan via het formulier. Om dubbel aanbod te voorkomen nemen wij graag eerst even contact met je op.\nZoals jullie van ons gewend zijn is er uiteraard ook weer genoeg te doen voor de kinderen!\nWij kijken er weer enorm naar uit! Graag tot zaterdag 12 april
URL:https://woldwijk.nl/evenement/kledingbeurs-op-12-april/
LOCATION:Boerderij Dijkshorn/Woldwijk\, Wolddijk 7\, Ten Boer
END:VEVENT
BEGIN:VEVENT
DTSTART;TZID=Europe/Amsterdam:20250301T150000
DTEND;TZID=Europe/Amsterdam:20250301T170000
DTSTAMP:20260425T211637
CREATED:20250216T112523Z
LAST-MODIFIED:20250216T112615Z
UID:4207-1740841200-1740848400@woldwijk.nl
SUMMARY:Handwerkcafé
DESCRIPTION:Op zaterdag 1 maart is er in de huiskamer van Landjegoed (naast Verlaatweg 34) een handwerkcafé. Neem je eigen werkje mee en kom gezellig handwerken. Er is\, wanneer dat nodig is\, professionele begeleiding en natuurlijk is er koffie en thee.
URL:https://woldwijk.nl/evenement/zaterdag-1-maart-handwerkcafe/
LOCATION:huiskamer Landjegoed
END:VEVENT
BEGIN:VEVENT
DTSTART;TZID=Europe/Amsterdam:20250201T140000
DTEND;TZID=Europe/Amsterdam:20250201T160000
DTSTAMP:20260425T211637
CREATED:20250115T223400Z
LAST-MODIFIED:20250115T223400Z
UID:4193-1738418400-1738425600@woldwijk.nl
SUMMARY:Uilenballen pluizen
DESCRIPTION:We gaan weer uilenballen pluizen! \nBen jij klaar om de detective in jezelf naar boven te halen? Kom uilenballen pluizen!  \nUilen laten echte schatten achter. Hun braakballen zitten vol met botjes\, schedels en andere verrassingen. Onderzoek wat uilen eten en ontdek hoe het voelt om een echte natuuronderzoeker te zijn. \nWanneer: 	Zaterdag 1 februari 2025 van 14:00 tot 16:00 uur\nWaar: 		Coöperatie Woldwijk\, Ten Boer (in de Wereldhuiskamer)\nVoor wie:	Kinderen van ± 6 t/m 12 jaar\nKosten:	Gratis\nAanmelden: 	Vóór 31 januari via natuurkids.groningen@gmail.com \nVanwege beperkte ruimte horen we graag met hoeveel kinderen en volwassenen je komt. We streven naar maximaal één volwassene per kind om de kinderen de ruimte te geven om lekker te pluizen.
URL:https://woldwijk.nl/evenement/uilenballen-pluizen/
LOCATION:Wereldhuiskamer\, Wolddijk 7\, Ten Boer\, Netherlands
END:VEVENT
BEGIN:VEVENT
DTSTART;TZID=Europe/Amsterdam:20241221T160000
DTEND;TZID=Europe/Amsterdam:20241221T200000
DTSTAMP:20260425T211637
CREATED:20241108T151004Z
LAST-MODIFIED:20241110T125236Z
UID:4137-1734796800-1734811200@woldwijk.nl
SUMMARY:Juulfeest/Midwinterfeest
DESCRIPTION:We maken een bijzonder ‘joelvuur’ in een groot draairad naar Scandinavische traditie op deze kortste dag van het jaar. Tijdens dit feest vieren we dat de dagen weer lichter gaan worden \n\n\nWanneer\n\n\nZaterdag 21 december\, 16:00 ~ 20:00 uur\n\n\n\n\nVoor wie\n\n\nGroep 7 t/m VO-klas 2 (Iedereen welkom vanaf 19 u\, voor het ontsteken van het vuur)\n\n\n\n\nWaar\n\n\n\nGrote schuur Coöperatie Woldwijk\, Woldwijk Ten Boer \n Route/ kaart \n\n\n\n\n\nKosten\n\n\n€ 3\,- incl. patat\, drinken\, koek & zopie\n\n\n\n\nOpgeven\n\n\nVerplicht: https://klndr.online/kalender?plaats=4\n\n\n\n\nOrganisatie\n\n\nCoöperatie Woldwijk & WIJ Kinder- & Jongerenwerk\n\n\n\n\nContact\n\n\nJongerenwerker nikki.huisman@wij.groningen.nl / 06 3191 0332
URL:https://woldwijk.nl/evenement/juulfeest/
LOCATION:Boerderij Dijkshorn/Woldwijk\, Wolddijk 7\, Ten Boer
ORGANIZER;CN="Co%C3%B6peratie Woldwijk":MAILTO:info@woldwijk.nl
END:VEVENT
BEGIN:VEVENT
DTSTART;TZID=Europe/Amsterdam:20241220T150000
DTEND;TZID=Europe/Amsterdam:20241220T163000
DTSTAMP:20260425T211637
CREATED:20241104T222622Z
LAST-MODIFIED:20241104T222622Z
UID:4135-1734706800-1734712200@woldwijk.nl
SUMMARY:Kerststukjes maken
DESCRIPTION:Zit je op de basisschool en vind je het leuk om een kerststukje te maken? Kom dan naar de wereldhuiskamer op Woldwijk op vrijdag 20 december. Alles is gratis\, maar je moet wel een potje of plankje of iets dergelijks meenemen om de oase in te doen. \nEn we vinden het fijn wanneer je je even aanmeldt. Dat kan via klndr.online of via deze link: https://docs.google.com/forms/d/e/1FAIpQLScw3GIBJUFRcfA6G8xXumRUYozGG1Pd5esfli-jYWiNSuaLuQ/viewform
URL:https://woldwijk.nl/evenement/kerststukjes-maken/
LOCATION:Wereldhuiskamer\, Wolddijk 7\, Ten Boer\, Netherlands
ORGANIZER;CN="Co%C3%B6peratie Woldwijk":MAILTO:info@woldwijk.nl
END:VEVENT
BEGIN:VEVENT
DTSTART;TZID=Europe/Amsterdam:20241123T140000
DTEND;TZID=Europe/Amsterdam:20241123T160000
DTSTAMP:20260425T211637
CREATED:20241006T094630Z
LAST-MODIFIED:20241104T221543Z
UID:4099-1732370400-1732377600@woldwijk.nl
SUMMARY:Lezing Sanne Groot Koerkamp: wonen op boerenerven
DESCRIPTION:Sanne Groot Koerkamp heeft verstand van wonen. En van een goed verhaal. Na twintig jaar journalistiek heeft ze vijf jaar geleden het roer omgegooid om zich met hart en ziel in te zetten voor een toegankelijkere woningmarkt in het buitengebied. Na zich twee jaar bezig te hebben gehouden met wooncoöperaties stapte ze ruim drie jaar geleden over naar Rabobank\, waar ze\, samen met een gedreven en gemotiveerd team\, haar eigen start-up heeft opgezet: Boeren\, Wonen en Natuur. Het team ontwikkelt op enkele pilot-locaties in Nederland samen met boeren kleinschalige\, duurzame woongemeenschappen waarbij voedselproductie en natuurontwikkeling centraal staan. Zo wordt geprobeerd door kleinschalige woningbouwontwikkeling op agrarische grond nieuw perspectief te bieden aan boeren en het platteland. Sanne deelt haar enthousiasme\, de valkuilen\, de regelgeving en de hoopgevende ervaringen met ons. Interessant voor boeren\, burgers en buitenlui! \nKijk voor nog meer informatie op Sanne’s LinkedIn-profiel: https://www.linkedin.com/in/sanneg/ \nof lees dit verhaal in het Noord-Hollands Dagblad van 30 september jl. over het onderwerp van haar lezing: wonen op boerenerven.
URL:https://woldwijk.nl/evenement/lezing-sanne-groot-koerkamp-wonen-op-boerenerven/
LOCATION:huiskamer Landjegoed
ORGANIZER;CN="Co%C3%B6peratie Woldwijk":MAILTO:info@woldwijk.nl
END:VEVENT
BEGIN:VEVENT
DTSTART;TZID=Europe/Amsterdam:20241026T133000
DTEND;TZID=Europe/Amsterdam:20241026T150000
DTSTAMP:20260425T211637
CREATED:20240910T110126Z
LAST-MODIFIED:20240919T122010Z
UID:4005-1729949400-1729954800@woldwijk.nl
SUMMARY:Kriebelbeestjes zoeken en bekijken
DESCRIPTION:  \nOp zaterdag 26 oktober van 13.30 tot 15.00 uur gaan we rond de boerderij van Woldwijk op zoek naar mieren\, wormen\, kevers\, duizendpoten\, slakken\, spinnen\, pissebedden en andere engerds! \nOf ben jij juist benieuwd naar deze prachtige beestjes? Linda en haar vrienden vertellen je alles over deze beestjes. Ben je tussen de 8 en 12 jaar? Meld je dan snel aan op info@woldwijk.nl  \nWe verzamelen om half 2 op het erf achter de boerderij. Natuurlijk staat er ook iets lekkers te eten en te drinken voor je klaar! En het is helemaal gratis. \n \n 
URL:https://woldwijk.nl/evenement/kriebelbeestjes-zoeken-en-bekijken/
LOCATION:In en rond de boerderij Woldwijk\, Wolddijk 7\, Ten Boer
ORGANIZER;CN="Co%C3%B6peratie Woldwijk":MAILTO:info@woldwijk.nl
END:VEVENT
BEGIN:VEVENT
DTSTART;TZID=Europe/Amsterdam:20240831T150000
DTEND;TZID=Europe/Amsterdam:20240831T210000
DTSTAMP:20260425T211637
CREATED:20240711T114739Z
LAST-MODIFIED:20240711T114739Z
UID:3841-1725116400-1725138000@woldwijk.nl
SUMMARY:Dorpsterras - Igor + band
DESCRIPTION:Voor de tweede keer komt Igor optreden op het dorpsterras. Je bent van harte welkom op het achtererf van de boerderij van 15 tot 21 uur. Hapjes en drankjes zijn aanwezig en muziek dus ook!
URL:https://woldwijk.nl/evenement/dorpsterras-igor-band/
LOCATION:de Buitenplaats\, Verlaatweg / Wolddijk 7\, Ten Boer\, 9791 TD\, Nederland
ORGANIZER;CN="Co%C3%B6peratie Woldwijk":MAILTO:info@woldwijk.nl
END:VEVENT
BEGIN:VEVENT
DTSTART;TZID=Europe/Amsterdam:20240830T150000
DTEND;TZID=Europe/Amsterdam:20240830T173000
DTSTAMP:20260425T211637
CREATED:20240711T211230Z
LAST-MODIFIED:20240711T211230Z
UID:3851-1725030000-1725039000@woldwijk.nl
SUMMARY:Dorpsterras - uitgebreide rondleiding over Woldwijk
DESCRIPTION:Op 31 augustus organiseren we de tweede rondleiding over Woldwijk van deze zomer. Je bekijkt de nieuwste bouwsels en bespreekt de nieuwste ontwikkelingen met bestuurslid Sieger de Vries. Stel al je vragen en kijk binnen bij een tiny house of een yurt. \nWe beginnen om 15 uur en de rondleiding duurt ongeveer anderhalf uur. Na afloop is er een hapje en een drankje op het dorpsterras.\nJe mag gewoon komen aanwaaien\, maar een aanmelding is ook prettig. Mail even naar info@woldwijk.nl
URL:https://woldwijk.nl/evenement/dorpsterras-uitgebreide-rondleiding-over-woldwijk-2/
LOCATION:Woldwijk\, Ten Boer\, Nederland
ORGANIZER;CN="Co%C3%B6peratie Woldwijk":MAILTO:info@woldwijk.nl
END:VEVENT
BEGIN:VEVENT
DTSTART;TZID=Europe/Amsterdam:20240828T193000
DTEND;TZID=Europe/Amsterdam:20240828T223000
DTSTAMP:20260425T211637
CREATED:20240616T201035Z
LAST-MODIFIED:20240616T201035Z
UID:3796-1724873400-1724884200@woldwijk.nl
SUMMARY:Ten Boer's got Talent
DESCRIPTION:In of bij de schuur van de boerderij op Woldwijk organiseren Party Blaauw\, To Be Jong\, WIJ en Vrijdag op woensdag 28 augustus Ten Boer’s got Talent. Alle kinderen en jongeren die hun talent willen laten zien kunnen meedoen. Je moet uit één van de dorpen uit de voormalige gemeente Ten Boer komen en je moet je even aanmelden voor 4 augustus. Dat aanmelden doe je op KLNDR.online
URL:https://woldwijk.nl/evenement/ten-boers-got-talent/
LOCATION:In en rond de boerderij Woldwijk\, Wolddijk 7\, Ten Boer
END:VEVENT
BEGIN:VEVENT
DTSTART;TZID=Europe/Amsterdam:20240824T130000
DTEND;TZID=Europe/Amsterdam:20240824T210000
DTSTAMP:20260425T211637
CREATED:20240713T124831Z
LAST-MODIFIED:20240713T124831Z
UID:3875-1724504400-1724533200@woldwijk.nl
SUMMARY:Aardbeverrr festival
DESCRIPTION:Een jaarlijks terugkerend feestje: het Aardbeverrr festival. Begonnen als reünie van Mas con Menos-workshop deelnemers is het nu uitgegroeid tot een feestje voor cursisten\, bewoners én geïnteresseerde dorpsbewoners: muziek\, gezelligheid\, samen eten en meer. Meer informatie volgt.
URL:https://woldwijk.nl/evenement/aardbeverrr-festival-2/
LOCATION:de Buitenplaats\, Verlaatweg / Wolddijk 7\, Ten Boer\, 9791 TD\, Nederland
ORGANIZER;CN="StaatjeVrij":MAILTO:staatjevrij@gmail.com
END:VEVENT
BEGIN:VEVENT
DTSTART;TZID=Europe/Amsterdam:20240823T170000
DTEND;TZID=Europe/Amsterdam:20240823T210000
DTSTAMP:20260425T211637
CREATED:20240630T125848Z
LAST-MODIFIED:20240713T125007Z
UID:3800-1724432400-1724446800@woldwijk.nl
SUMMARY:Aardbeverrr festival
DESCRIPTION:Een jaarlijks terugkerend feestje: het Aardbeverrr festival. Begonnen als reünie van Mas con Menos-workshop deelnemers is het nu uitgegroeid tot een feestje voor cursisten\, bewoners én geïnteresseerde dorpsbewoners: muziek\, gezelligheid\, samen eten en meer. Meer informatie volgt.
URL:https://woldwijk.nl/evenement/aardbeverrr-festival/
LOCATION:In en rond de boerderij Woldwijk\, Wolddijk 7\, Ten Boer
ORGANIZER;CN="StaatjeVrij":MAILTO:staatjevrij@gmail.com
END:VEVENT
BEGIN:VEVENT
DTSTART;TZID=Europe/Amsterdam:20240817T170000
DTEND;TZID=Europe/Amsterdam:20240817T200000
DTSTAMP:20260425T211637
CREATED:20240729T120601Z
LAST-MODIFIED:20240729T120601Z
UID:3926-1723914000-1723924800@woldwijk.nl
SUMMARY:Dorpsterras - jamsessie (van 17 tot 20 uur)
DESCRIPTION:17 augustus: jamsessie op het dorpsterras\n\n\nOp zaterdag 17 augustus vindt er tussen 17 en 20 uur een jamsessie plaats op het dorpsterras van Woldwijk (achter de boerderij). Doe je ook mee? De eerste deelnemers hebben zich al gemeld. Muziek\, zang\, rap\, spoken word\, iedereen is welkom. Versterking en wat instrumenten zijn aanwezig\, maar neem vooral je eigen instrument mee! \nNatuurlijk mag je ook lekker komen luisteren onder het genot van een hapje of een drankje!
URL:https://woldwijk.nl/evenement/dorpsterras-jamsessie-van-17-tot-20-uur/
LOCATION:de Buitenplaats\, Verlaatweg / Wolddijk 7\, Ten Boer\, 9791 TD\, Nederland
ORGANIZER;CN="Co%C3%B6peratie Woldwijk":MAILTO:info@woldwijk.nl
END:VEVENT
BEGIN:VEVENT
DTSTART;TZID=Europe/Amsterdam:20240817T150000
DTEND;TZID=Europe/Amsterdam:20240817T173000
DTSTAMP:20260425T211637
CREATED:20240711T210246Z
LAST-MODIFIED:20240711T210246Z
UID:3848-1723906800-1723915800@woldwijk.nl
SUMMARY:Dorpsterras - uitgebreide rondleiding over Woldwijk
DESCRIPTION:Laat je rondleiden over Woldwijk\, bekijk de nieuwste ontwikkelingen\, stel al je vragen en kijk bij een tiny house en een yurt binnen. Bestuurslid Sieger de Vries leid je rond en beantwoord je vragen. We beginnen om 15 uur en na afloop\, na ongeveer anderhalf uur\, is er een hapje en een drankje. \nJe mag aan komen waaien\, maar het is ook wel handig wanneer je je even aanmeldt op info@woldwijk.nl
URL:https://woldwijk.nl/evenement/dorpsterras-uitgebreide-rondleiding-over-woldwijk/
LOCATION:Woldwijk\, Ten Boer\, Nederland
ORGANIZER;CN="Co%C3%B6peratie Woldwijk":MAILTO:info@woldwijk.nl
END:VEVENT
BEGIN:VEVENT
DTSTART;TZID=Europe/Amsterdam:20240816T150000
DTEND;TZID=Europe/Amsterdam:20240816T210000
DTSTAMP:20260425T211637
CREATED:20240802T205124Z
LAST-MODIFIED:20240802T205124Z
UID:3934-1723820400-1723842000@woldwijk.nl
SUMMARY:Dorpsterras!
DESCRIPTION:Van 15 uur tot 21 uur ben je weer welkom op het dorpsterras. Er zijn drankjes en hapjes en hopelijk is het weer fantastisch. We proberen te zorgen voor muziek\, gezellig is het in ieder geval!
URL:https://woldwijk.nl/evenement/dorpsterras/
LOCATION:de Buitenplaats\, Verlaatweg / Wolddijk 7\, Ten Boer\, 9791 TD\, Nederland
END:VEVENT
BEGIN:VEVENT
DTSTART;TZID=Europe/Amsterdam:20240810T173000
DTEND;TZID=Europe/Amsterdam:20240810T210000
DTSTAMP:20260425T211637
CREATED:20240716T175652Z
LAST-MODIFIED:20240716T175652Z
UID:3888-1723311000-1723323600@woldwijk.nl
SUMMARY:Eetcafé met pizza's
DESCRIPTION:Op 10 augustus is het weer tijd voor het maandelijkse eetcafé. Ook deze keer met de bekende\, beroemde\, Woldwijkpizza’s uit de houtoven. Je betaalt op donatie\, dus wat je waard vond. Drankjes tegen een vaste prijs. Meld je je even aan op staatjevrij@gmail.com? Dan kan er rekening gehouden worden met het aantal aanwezigen bij de inkoop. Rond half 6 ben je welkom voor het eten\, maar je kunt al eerder terecht op het terras.
URL:https://woldwijk.nl/evenement/eetcafe-met-pizzas/
LOCATION:de Buitenplaats\, Verlaatweg / Wolddijk 7\, Ten Boer\, 9791 TD\, Nederland
ORGANIZER;CN="StaatjeVrij":MAILTO:staatjevrij@gmail.com
END:VEVENT
BEGIN:VEVENT
DTSTART;TZID=Europe/Amsterdam:20240727T160000
DTEND;TZID=Europe/Amsterdam:20240727T190000
DTSTAMP:20260425T211637
CREATED:20240726T194727Z
LAST-MODIFIED:20240726T194843Z
UID:3920-1722096000-1722106800@woldwijk.nl
SUMMARY:Dorpsterras: live muziek van Anjo van Ziel
DESCRIPTION:Op zatedag 27 juli speelt Anjo van Ziel live op het dorpsterras van 16 – 19 uur. Hij is singer-songwriter\, speelt gitaar en mondharmonica en qua genre moet je denken aan rock ’n roll en blues.
URL:https://woldwijk.nl/evenement/dorpsterras-live-muziek-van-anjo-van-ziel/
LOCATION:de Buitenplaats\, Verlaatweg / Wolddijk 7\, Ten Boer\, 9791 TD\, Nederland
END:VEVENT
BEGIN:VEVENT
DTSTART;TZID=Europe/Amsterdam:20240720T150000
DTEND;TZID=Europe/Amsterdam:20240720T210000
DTSTAMP:20260425T211637
CREATED:20240711T113545Z
LAST-MODIFIED:20240716T175043Z
UID:3838-1721487600-1721509200@woldwijk.nl
SUMMARY:Dorpsterras - Igor + friends + studenten (muziek) (16-18 uur)
DESCRIPTION:Igor runt de muziekschool in DOS. Samen met een aantal vrienden en leerlingen komt hij optreden op het dorpsterras.  Van 15 tot 21 uur ben je van harte welkom op ons dorpsterras op het achtererf van de boerderij voor een hapje en een drankje en natuurlijk tussen 16 en 18 uur muziek van Igor en zijn vrienden.
URL:https://woldwijk.nl/evenement/dorpsterras-igor-friends-studenten-muziek/
LOCATION:de Buitenplaats\, Verlaatweg / Wolddijk 7\, Ten Boer\, 9791 TD\, Nederland
ORGANIZER;CN="Co%C3%B6peratie Woldwijk":MAILTO:info@woldwijk.nl
END:VEVENT
BEGIN:VEVENT
DTSTART;TZID=Europe/Amsterdam:20240719T150000
DTEND;TZID=Europe/Amsterdam:20240719T210000
DTSTAMP:20260425T211637
CREATED:20240711T113028Z
LAST-MODIFIED:20240711T210431Z
UID:3834-1721401200-1721422800@woldwijk.nl
SUMMARY:Dorpsterras - afsluiting workshop Mas con Menos
DESCRIPTION:Op de eerste middag en avond van het dorpsterras is het meteen al gezellig: Mas con Menos heeft de week ervoor een workshop op het Woldwijkterrein gehad en dit is de laatste avond. Je bent welkom om deze gezellige middag/avond mee te maken\, je kunt dan meteen even de bouwsels die de workshopweek heeft opgeleverd bekijken.\nVanaf 15 uur ben je welkom op het achtererf van de boerderij!
URL:https://woldwijk.nl/evenement/dorpsterras-afsluiting-workshop-mas-con-menos-bonte-avond/
LOCATION:de Buitenplaats\, Verlaatweg / Wolddijk 7\, Ten Boer\, 9791 TD\, Nederland
ORGANIZER;CN="Co%C3%B6peratie Woldwijk":MAILTO:info@woldwijk.nl
END:VEVENT
BEGIN:VEVENT
DTSTART;TZID=Europe/Amsterdam:20240706T130000
DTEND;TZID=Europe/Amsterdam:20240706T220000
DTSTAMP:20260425T211637
CREATED:20240213T104459Z
LAST-MODIFIED:20240616T195334Z
UID:3616-1720270800-1720303200@woldwijk.nl
SUMMARY:Lutjefest
DESCRIPTION:Woldwijk en Dorpsbelangen Ten Boer organiseren op 6 juli ’24 de tweede editie van Lutjefest. Je kunt diverse band en muzikanten verwachten\, maar ook theater\, eten en drinken\, activiteiten voor jongeren\, een markt en nog veel meer. \nWil je doneren en een bijdrage leveren aan een nog mooier Lutjefest? Scan dan de QR-code en maak een bedrag(je) over! \n \n 
URL:https://woldwijk.nl/evenement/lutjefest/
LOCATION:Woldwijk\, Ten Boer\, Nederland
END:VEVENT
BEGIN:VEVENT
DTSTART;TZID=Europe/Amsterdam:20240509T110000
DTEND;TZID=Europe/Amsterdam:20240509T130000
DTSTAMP:20260425T211637
CREATED:20240426T085354Z
LAST-MODIFIED:20240426T085354Z
UID:3754-1715252400-1715259600@woldwijk.nl
SUMMARY:Workshop sterrenkunde voor kinderen
DESCRIPTION:Workshop sterrenkunde voor kinderen op 9 mei!\n\n\nOp donderdag 9 mei komt Veronica Allen van de RUG naar de Wereldhuiskamer om te vertellen over ons heelal. De ochtend is speciaal voor jongeren van 8 tot 12 jaar en begint om 11.00 uur (tot 13 uur). Veronica vertelt je alles over planeten en sterren en we gaan ook zelf een ster knutselen. De ochtend wordt georganiseerd door Bij Vrijdag en je kunt je aanmelden op KLNDR: https://klndr.online/kalender?plaats=4 De toegang is gratis!
URL:https://woldwijk.nl/evenement/workshop-sterrenkunde-voor-kinderen/
LOCATION:Wereldhuiskamer\, Wolddijk 7\, Ten Boer\, Netherlands
END:VEVENT
BEGIN:VEVENT
DTSTART;TZID=Europe/Amsterdam:20240503T143000
DTEND;TZID=Europe/Amsterdam:20240503T200000
DTSTAMP:20260425T211637
CREATED:20240411T210304Z
LAST-MODIFIED:20240426T094205Z
UID:3718-1714746600-1714766400@woldwijk.nl
SUMMARY:Films in de schuur!
DESCRIPTION:Op vrijdag 3 mei kunnen kinderen van de basisschool film kijken in de schuur van Woldwijk. We beginnen om 14.30 uur met de film Het feest van tante Rita\, en we eten daarna patat. Van 17 tot 20 uur zijn kinderen van groep 5 tot en met 7 welkom voor de film De Kameleon aan de ketting. Voor deze groep beginnen we met patat. Tijdens de films is er popcorn en ranja.\nTrek wel een beetje warme kleren aan\, want het is soms koud in de schuur. We zorgen voor wat kleedjes  en slaapzakken\, maar een warme jas is een goed begin.\nJe moet je wel even aanmelden\, maar dan is verder alles gratis:  https://forms.gle/TDguCynZfR28Dt5RA
URL:https://woldwijk.nl/evenement/film-in-de-schuur/
LOCATION:Boerderij Dijkshorn/Woldwijk\, Wolddijk 7\, Ten Boer
ORGANIZER;CN="Co%C3%B6peratie Woldwijk":MAILTO:info@woldwijk.nl
END:VEVENT
BEGIN:VEVENT
DTSTART;TZID=Europe/Amsterdam:20240316T140000
DTEND;TZID=Europe/Amsterdam:20240316T160000
DTSTAMP:20260425T211637
CREATED:20240215T154139Z
LAST-MODIFIED:20240215T154923Z
UID:3624-1710597600-1710604800@woldwijk.nl
SUMMARY:Pluk de Lente met IVN!
DESCRIPTION:Heb je de eerste sneeuwklokjes al gezien? De lente is in aantocht. Er valt nog veel meer te ontdekken over de lente. Speur met ons mee langs de verschillende opdrachten en pluk de lente! Ben je tussen de 6 en 12 jaar oud? Dan zien we je graag op zaterdag 16 maart om 14 uur (tot 16 uur) bij de grote schuur op Woldwijk. \nJe kunt je aanmelden via de mail: natuurkids.groningen@gmail.com. Graag het aantal kinderen en volwassenen aangeven en een telefoonnummer vermelden. Let goed op het weer\, als het nodig is moet je laarzen\, warme kleren of regenkleding meenemen. Deelname is gratis!
URL:https://woldwijk.nl/evenement/pluk-de-lente-met-ivn/
LOCATION:In en rond de boerderij Woldwijk\, Wolddijk 7\, Ten Boer
END:VEVENT
BEGIN:VEVENT
DTSTART;TZID=Europe/Amsterdam:20231222T153000
DTEND;TZID=Europe/Amsterdam:20231222T170000
DTSTAMP:20260425T211637
CREATED:20231205T120311Z
LAST-MODIFIED:20231205T120346Z
UID:3475-1703259000-1703264400@woldwijk.nl
SUMMARY:Kinderactiviteit: kerststukjes maken
DESCRIPTION:Op vrijdag 22 december kunnen kinderen op Woldwijk kerststukjes maken (het is niet in de schuur\, maar in de Wereldhuiskamer!) We beginnen om 15.30 uur en er is chocolademelk\, een vuurtje met marshmellows en natuurlijk spullen om je kerststukje mee te maken.\nWe organiseren dit met Kom je ook spelen? van Rhaïsa Hoving. \nGeef je op via www.KLNDR.online
URL:https://woldwijk.nl/evenement/kinderactiviteit-kerststukjes-maken-op-vrijdag-22-december/
LOCATION:Wereldhuiskamer\, Wolddijk 7\, Ten Boer\, Netherlands
END:VEVENT
BEGIN:VEVENT
DTSTART;TZID=Europe/Amsterdam:20231209T160000
DTEND;TZID=Europe/Amsterdam:20231209T173000
DTSTAMP:20260425T211637
CREATED:20230824T094751Z
LAST-MODIFIED:20230824T094751Z
UID:3325-1702137600-1702143000@woldwijk.nl
SUMMARY:Rondleiding Woldwijk
DESCRIPTION:Er zijn regelmatig mensen die een kijkje willen nemen op Woldwijk\, in gesprek willen met bewoners en een tiny house of yurt van binnen willen bekijken. We bieden nu één keer per maand de mogelijkheid om dat te doen op afspraak. Elke tweede zaterdag van de maand kun je om 16.00 uur onder begeleiding van één of meer bewoners alles vragen wat je wilt weten en bij één of meer bewoners binnen kijken. \nDaarna kun je\, wanneer je wilt\, vanaf 17.30 uur mee-eten (vergoeding op donatie: geef wat je het waard vond) met de pizza-avond van Staatjevrij in de Wereldhuiskamer. \nMeedoen op 9 december? Mail dan uiterlijk donderdag 7 december naar rondleiding@woldwijk.nl. Geef je naam en telefoonnummer door\, met hoeveel personen je komt en of je na de rondleiding wilt mee-eten. Dan geven wij dat door aan Staatjevrij.
URL:https://woldwijk.nl/evenement/rondleiding-woldwijk-4/
LOCATION:Woldwijk\, Ten Boer\, Nederland
END:VEVENT
BEGIN:VEVENT
DTSTART;TZID=Europe/Amsterdam:20231111T160000
DTEND;TZID=Europe/Amsterdam:20231111T173000
DTSTAMP:20260425T211637
CREATED:20230824T093724Z
LAST-MODIFIED:20230824T093857Z
UID:3323-1699718400-1699723800@woldwijk.nl
SUMMARY:Rondleiding Woldwijk
DESCRIPTION:Er zijn regelmatig mensen die een kijkje willen nemen op Woldwijk\, in gesprek willen met bewoners en een tiny house of yurt van binnen willen bekijken. We bieden nu één keer per maand de mogelijkheid om dat te doen op afspraak. Elke tweede zaterdag van de maand kun je om 16.00 uur onder begeleiding van één of meer bewoners alles vragen wat je wilt weten en bij één of meer bewoners binnen kijken. \nDaarna kun je\, wanneer je wilt\, vanaf 17.30 uur mee-eten (vergoeding op donatie: geef wat je het waard vond) met de pizza-avond van Staatjevrij in de Wereldhuiskamer. \nMeedoen op 11 november? Mail dan uiterlijk donderdag 9 november naar rondleiding@woldwijk.nl. Geef je naam en telefoonnummer door\, met hoeveel personen je komt en of je na de rondleiding wilt mee-eten. Dan geven wij dat door aan Staatjevrij.
URL:https://woldwijk.nl/evenement/rondleiding-woldwijk-3/
LOCATION:Woldwijk\, Ten Boer\, Nederland
END:VEVENT
BEGIN:VEVENT
DTSTART;TZID=Europe/Amsterdam:20231023T140000
DTEND;TZID=Europe/Amsterdam:20231023T163000
DTSTAMP:20260425T211637
CREATED:20231006T144728Z
LAST-MODIFIED:20231006T144728Z
UID:3397-1698069600-1698078600@woldwijk.nl
SUMMARY:Pompoenen uithollen
DESCRIPTION:En alweer een activiteit! Deze keer voor kinderen tot 12 jaar. In de herfstvakantie\, op maandag 23 oktober gaan we pompoenen uithollen of er zelf eentje maken van stof. Er is chocolademelk en er zijn marshmellows.\nKom gezellig langs met je ouders/ verzorgers\, oma\, opa of de oppas op maandag 23 oktober van 14.00 tot 16.30 in de schuur bij Woldwijk.\nMeld je aan via de link en vol=vol.\nLeeftijd: voor de kids van de basisschool\nKosten: gratis\nhttps://forms.gle/SqjgmcxJzLAgM4GbA\nEr worden deze vakantie nog meer leuke activiteiten georganiseerd in Ten Boer. Kijk gauw op www.klndr.online
URL:https://woldwijk.nl/evenement/pompoenen-uithollen/
LOCATION:Boerderij Dijkshorn/Woldwijk\, Wolddijk 7\, Ten Boer
END:VEVENT
BEGIN:VEVENT
DTSTART;TZID=Europe/Amsterdam:20231014T160000
DTEND;TZID=Europe/Amsterdam:20231014T173000
DTSTAMP:20260425T211637
CREATED:20230824T093438Z
LAST-MODIFIED:20230824T093438Z
UID:3321-1697299200-1697304600@woldwijk.nl
SUMMARY:Rondleiding Woldwijk
DESCRIPTION:Er zijn regelmatig mensen die een kijkje willen nemen op Woldwijk\, in gesprek willen met bewoners en een tiny house of yurt van binnen willen bekijken. We bieden nu één keer per maand de mogelijkheid om dat te doen op afspraak. Elke tweede zaterdag van de maand kun je om 16.00 uur onder begeleiding van één of meer bewoners alles vragen wat je wilt weten en bij één of meer bewoners binnen kijken. \nDaarna kun je\, wanneer je wilt\, vanaf 17.30 uur mee-eten (vergoeding op donatie: geef wat je het waard vond) met de pizza-avond van Staatjevrij in de Wereldhuiskamer. \nMeedoen op 14 oktober? Mail dan uiterlijk donderdag 12 oktober naar rondleiding@woldwijk.nl. Geef je naam en telefoonnummer door\, met hoeveel personen je komt en of je na de rondleiding wilt mee-eten. Dan geven wij dat door aan Staatjevrij.
URL:https://woldwijk.nl/evenement/rondleiding-woldwijk-2/
LOCATION:Woldwijk\, Ten Boer\, Nederland
END:VEVENT
END:VCALENDAR