BEGIN:VCALENDAR
VERSION:2.0
PRODID:-//Woldwijk - ECPv6.15.20//NONSGML v1.0//EN
CALSCALE:GREGORIAN
METHOD:PUBLISH
X-ORIGINAL-URL:https://woldwijk.nl
X-WR-CALDESC:Evenementen voor Woldwijk
REFRESH-INTERVAL;VALUE=DURATION:PT1H
X-Robots-Tag:noindex
X-PUBLISHED-TTL:PT1H
BEGIN:VTIMEZONE
TZID:Europe/Amsterdam
BEGIN:DAYLIGHT
TZOFFSETFROM:+0100
TZOFFSETTO:+0200
TZNAME:CEST
DTSTART:20170326T010000
END:DAYLIGHT
BEGIN:STANDARD
TZOFFSETFROM:+0200
TZOFFSETTO:+0100
TZNAME:CET
DTSTART:20171029T010000
END:STANDARD
BEGIN:DAYLIGHT
TZOFFSETFROM:+0100
TZOFFSETTO:+0200
TZNAME:CEST
DTSTART:20180325T010000
END:DAYLIGHT
BEGIN:STANDARD
TZOFFSETFROM:+0200
TZOFFSETTO:+0100
TZNAME:CET
DTSTART:20181028T010000
END:STANDARD
BEGIN:DAYLIGHT
TZOFFSETFROM:+0100
TZOFFSETTO:+0200
TZNAME:CEST
DTSTART:20190331T010000
END:DAYLIGHT
BEGIN:STANDARD
TZOFFSETFROM:+0200
TZOFFSETTO:+0100
TZNAME:CET
DTSTART:20191027T010000
END:STANDARD
BEGIN:DAYLIGHT
TZOFFSETFROM:+0100
TZOFFSETTO:+0200
TZNAME:CEST
DTSTART:20200329T010000
END:DAYLIGHT
BEGIN:STANDARD
TZOFFSETFROM:+0200
TZOFFSETTO:+0100
TZNAME:CET
DTSTART:20201025T010000
END:STANDARD
BEGIN:DAYLIGHT
TZOFFSETFROM:+0100
TZOFFSETTO:+0200
TZNAME:CEST
DTSTART:20210328T010000
END:DAYLIGHT
BEGIN:STANDARD
TZOFFSETFROM:+0200
TZOFFSETTO:+0100
TZNAME:CET
DTSTART:20211031T010000
END:STANDARD
BEGIN:DAYLIGHT
TZOFFSETFROM:+0100
TZOFFSETTO:+0200
TZNAME:CEST
DTSTART:20220327T010000
END:DAYLIGHT
BEGIN:STANDARD
TZOFFSETFROM:+0200
TZOFFSETTO:+0100
TZNAME:CET
DTSTART:20221030T010000
END:STANDARD
BEGIN:DAYLIGHT
TZOFFSETFROM:+0100
TZOFFSETTO:+0200
TZNAME:CEST
DTSTART:20230326T010000
END:DAYLIGHT
BEGIN:STANDARD
TZOFFSETFROM:+0200
TZOFFSETTO:+0100
TZNAME:CET
DTSTART:20231029T010000
END:STANDARD
BEGIN:DAYLIGHT
TZOFFSETFROM:+0100
TZOFFSETTO:+0200
TZNAME:CEST
DTSTART:20240331T010000
END:DAYLIGHT
BEGIN:STANDARD
TZOFFSETFROM:+0200
TZOFFSETTO:+0100
TZNAME:CET
DTSTART:20241027T010000
END:STANDARD
BEGIN:DAYLIGHT
TZOFFSETFROM:+0100
TZOFFSETTO:+0200
TZNAME:CEST
DTSTART:20250330T010000
END:DAYLIGHT
BEGIN:STANDARD
TZOFFSETFROM:+0200
TZOFFSETTO:+0100
TZNAME:CET
DTSTART:20251026T010000
END:STANDARD
END:VTIMEZONE
BEGIN:VEVENT
DTSTART;TZID=Europe/Amsterdam:20240719T150000
DTEND;TZID=Europe/Amsterdam:20240719T210000
DTSTAMP:20260426T052348
CREATED:20240711T113028Z
LAST-MODIFIED:20240711T210431Z
UID:3834-1721401200-1721422800@woldwijk.nl
SUMMARY:Dorpsterras - afsluiting workshop Mas con Menos
DESCRIPTION:Op de eerste middag en avond van het dorpsterras is het meteen al gezellig: Mas con Menos heeft de week ervoor een workshop op het Woldwijkterrein gehad en dit is de laatste avond. Je bent welkom om deze gezellige middag/avond mee te maken\, je kunt dan meteen even de bouwsels die de workshopweek heeft opgeleverd bekijken.\nVanaf 15 uur ben je welkom op het achtererf van de boerderij!
URL:https://woldwijk.nl/evenement/dorpsterras-afsluiting-workshop-mas-con-menos-bonte-avond/
LOCATION:de Buitenplaats\, Verlaatweg / Wolddijk 7\, Ten Boer\, 9791 TD\, Nederland
ORGANIZER;CN="Co%C3%B6peratie Woldwijk":MAILTO:info@woldwijk.nl
END:VEVENT
BEGIN:VEVENT
DTSTART;TZID=Europe/Amsterdam:20230825T160000
DTEND;TZID=Europe/Amsterdam:20230827T120000
DTSTAMP:20260426T052348
CREATED:20230818T172618Z
LAST-MODIFIED:20230818T172618Z
UID:3289-1692979200-1693137600@woldwijk.nl
SUMMARY:Aardbeverrrfestival Mas con Menos
DESCRIPTION:Het jaarlijkse Mas con Menos feestje! Kijk voor meer info op: https://www.facebook.com/events/1001694227491593/ \nHet is gratis\, maar meld je wel even aan! Zie de Facebooklink.
URL:https://woldwijk.nl/evenement/aardbeverrrfestival-mas-con-menos/
LOCATION:Wereldhuiskamer\, Wolddijk 7\, Ten Boer\, Netherlands
END:VEVENT
BEGIN:VEVENT
DTSTART;TZID=Europe/Amsterdam:20180914T080000
DTEND;TZID=Europe/Amsterdam:20180922T170000
DTSTAMP:20260426T052348
CREATED:20180812T112910Z
LAST-MODIFIED:20180812T112910Z
UID:1075-1536912000-1537635600@woldwijk.nl
SUMMARY:Workshop ecologisch bouwen
DESCRIPTION:We bouwen deze week verder in en om de Wereldhuiskamer. Deze zomer wordt dit bijzondere gebouw neergezet op het project Staatjevrij in Ten Boer. Een proeftuin waar stichting Mas con Menos naar hartelust kan experimenteren in ecologisch bouwen en samenvoorzienend leven. Alles wat we de afgelopen jaren met Mas con Menos aan ervaring hebben opgedaan komt samen in de bouw van de Wereldhuiskamer. Een groot ecologisch gebouwd strohuis met als doel een plek te creëeren waar de wereld elkaar weer kan ont-moeten en inspireren tot eerlijkere vormen van samen leven en gezonder bouwen. De Wereldhuiskamer zal hierin een voorbeeld zijn\, bouw jij mee?\nMeer informatie en aanmelden via www.masconmenos.nl 
URL:https://woldwijk.nl/evenement/workshop-ecologisch-bouwen/
LOCATION:In en rond de boerderij Woldwijk\, Wolddijk 7\, Ten Boer
END:VEVENT
BEGIN:VEVENT
DTSTART;TZID=Europe/Amsterdam:20180817T080000
DTEND;TZID=Europe/Amsterdam:20180820T170000
DTSTAMP:20260426T052348
CREATED:20180812T111950Z
LAST-MODIFIED:20180812T111950Z
UID:1073-1534492800-1534784400@woldwijk.nl
SUMMARY:Seizoensafsluiting Mas con Menos
DESCRIPTION:Als afsluiting van het workshopseizoen organiseert Mas con Menos voor alle deelnemers een afsluitend festivalletje. Drie dagen zijn de deelnemers van vorige workshops welkom om bij te praten en vooruit te kijken.\nOverigens is iedereen welkom om een kijkje te komen nemen\, zeker inwoners van Ten Boer!
URL:https://woldwijk.nl/evenement/seizoensafsluiting-mas-con-menos/
LOCATION:In en rond de boerderij Woldwijk\, Wolddijk 7\, Ten Boer
END:VEVENT
BEGIN:VEVENT
DTSTART;TZID=Europe/Amsterdam:20180809T080000
DTEND;TZID=Europe/Amsterdam:20180817T170000
DTSTAMP:20260426T052348
CREATED:20180812T111613Z
LAST-MODIFIED:20180812T111613Z
UID:1070-1533801600-1534525200@woldwijk.nl
SUMMARY:Workshop ecologisch bouwen van Mas con Menos
DESCRIPTION:Alleen voor deelnemers die zich hebben aangemeld: een 7-daagse workshop ecologisch bouwen. Er wordt een begin gemaakt met de Wereldhuiskamer\, een nieuwe ontmoetingsruimte.
URL:https://woldwijk.nl/evenement/workshop-ecologisch-bouwen-van-mas-con-menos/
LOCATION:In en rond de boerderij Woldwijk\, Wolddijk 7\, Ten Boer
END:VEVENT
END:VCALENDAR