BEGIN:VCALENDAR
VERSION:2.0
PRODID:-//Woldwijk - ECPv6.15.20//NONSGML v1.0//EN
CALSCALE:GREGORIAN
METHOD:PUBLISH
X-ORIGINAL-URL:https://woldwijk.nl
X-WR-CALDESC:Evenementen voor Woldwijk
REFRESH-INTERVAL;VALUE=DURATION:PT1H
X-Robots-Tag:noindex
X-PUBLISHED-TTL:PT1H
BEGIN:VTIMEZONE
TZID:Europe/Amsterdam
BEGIN:DAYLIGHT
TZOFFSETFROM:+0100
TZOFFSETTO:+0200
TZNAME:CEST
DTSTART:20250330T010000
END:DAYLIGHT
BEGIN:STANDARD
TZOFFSETFROM:+0200
TZOFFSETTO:+0100
TZNAME:CET
DTSTART:20251026T010000
END:STANDARD
BEGIN:DAYLIGHT
TZOFFSETFROM:+0100
TZOFFSETTO:+0200
TZNAME:CEST
DTSTART:20260329T010000
END:DAYLIGHT
BEGIN:STANDARD
TZOFFSETFROM:+0200
TZOFFSETTO:+0100
TZNAME:CET
DTSTART:20261025T010000
END:STANDARD
BEGIN:DAYLIGHT
TZOFFSETFROM:+0100
TZOFFSETTO:+0200
TZNAME:CEST
DTSTART:20270328T010000
END:DAYLIGHT
BEGIN:STANDARD
TZOFFSETFROM:+0200
TZOFFSETTO:+0100
TZNAME:CET
DTSTART:20271031T010000
END:STANDARD
END:VTIMEZONE
BEGIN:VEVENT
DTSTART;TZID=Europe/Amsterdam:20260411T143000
DTEND;TZID=Europe/Amsterdam:20260411T173000
DTSTAMP:20260425T225039
CREATED:20260221T111837Z
LAST-MODIFIED:20260221T111837Z
UID:4718-1775917800-1775928600@woldwijk.nl
SUMMARY:Tweedehands kledingbeurs
DESCRIPTION:Op zaterdag 11 april organiseren we weer een tweedehands kledingbeurs in de grote schuur van de Hoeve Dijkshorn op Woldwijk.\nVanaf 14.30 (tot 17.30 uur) ben je welkom! Er is kinderkleding en kleding voor volwassenen.\nWil je zelf een tafel\, geef je dan op via dit formulier: https://tinyurl.com/y68fe8ft \nEen tafel kost 5 euro.
URL:https://woldwijk.nl/evenement/tweedehands-kledingbeurs/
LOCATION:Boerderij Dijkshorn/Woldwijk\, Wolddijk 7\, Ten Boer
END:VEVENT
END:VCALENDAR